BEGIN:VCALENDAR
VERSION:2.0
PRODID:-//ChamberMaster//Event Calendar 2.0//EN
METHOD:PUBLISH
X-PUBLISHED-TTL:P1H
REFRESH-INTERVAL:P1H
CALSCALE:GREGORIAN
BEGIN:VTIMEZONE
TZID:America/Vancouver
BEGIN:DAYLIGHT
RRULE:FREQ=YEARLY;BYMONTH=3;BYDAY=2SU
DTSTART:20070101T000000
TZOFFSETFROM:-0800
TZOFFSETTO:-0700
TZNAME:Pacific Daylight Time
END:DAYLIGHT
BEGIN:STANDARD
RRULE:FREQ=YEARLY;BYMONTH=11;BYDAY=1SU
DTSTART:20070101T000000
TZOFFSETFROM:-0700
TZOFFSETTO:-0800
TZNAME:Pacific Standard Time
END:STANDARD
END:VTIMEZONE
BEGIN:VEVENT
DTSTART;TZID=America/Vancouver:20260417T170000
DTEND;TZID=America/Vancouver:20260417T200000
X-MICROSOFT-CDO-ALLDAYEVENT:FALSE
SUMMARY:Rotary Club of Sutherlin
DESCRIPTION:Annual Rotary Auction
X-ALT-DESC;FMTTYPE=text/html:Annual Rotary Auction
LOCATION:2110 frear street Roseburg OR 97471
UID:e.443.1437639
SEQUENCE:3
DTSTAMP:20260419T204547Z
URL:https://members.visitsutherlin.com/eventcalendar/Details/rotary-club-of-sutherlin-1701584?sourceTypeId=Hub
END:VEVENT
END:VCALENDAR
